BEGIN:VCALENDAR
VERSION:2.0
PRODID:-//Headway//Provider Headway Calendar Version 1.0//EN
COLOR:18\, 201\, 122
DESCRIPTION:Appointments\, availability\, and intake calls sourced from yo
 ur Headway calendar
REFRESH-INTERVAL:PT1H
TIMEZONE-ID:America/Chicago
X-PUBLISHED-TTL:PT1H
X-WR-CALDESC:Appointments\, availability\, and intake calls sourced from y
 our Headway calendar.
X-WR-CALNAME:Headway
X-WR-RELCALID:Headway
X-WR-TIMEZONE:America/Chicago
BEGIN:VTIMEZONE
TZID:America/Chicago
BEGIN:DAYLIGHT
DTSTART:20260308T020000
RDATE:20260308T020000
RDATE:20270314T020000
TZNAME:CDT
TZOFFSETFROM:-0600
TZOFFSETTO:-0500
END:DAYLIGHT
BEGIN:STANDARD
DTSTART:20261101T020000
RDATE:20261101T020000
RDATE:20271107T020000
TZNAME:CST
TZOFFSETFROM:-0500
TZOFFSETTO:-0600
END:STANDARD
END:VTIMEZONE
BEGIN:VEVENT
SUMMARY:Patient Appointment
DTSTART;TZID=America/Chicago:20260415T170000
DTEND;TZID=America/Chicago:20260415T180000
DTSTAMP:20260420T030418Z
UID:2084020104@https://sigmund.headway.co
SEQUENCE:1776293914
COLOR:#13aa65
DESCRIPTION:View the patient appointment at https://sigmund.headway.co/cal
 endar?event_id=2084020104&start_date=20260415T220000
LAST-MODIFIED:20260415T225834Z
LOCATION:Telehealth
TRANSP:OPAQUE
TZID:America/Chicago
END:VEVENT
BEGIN:VEVENT
SUMMARY:Patient Appointment
DTSTART;TZID=America/Chicago:20260415T180000
DTEND;TZID=America/Chicago:20260415T190000
DTSTAMP:20260420T030418Z
UID:2096291888@https://sigmund.headway.co
SEQUENCE:1776298130
COLOR:#13aa65
DESCRIPTION:View the patient appointment at https://sigmund.headway.co/cal
 endar?event_id=2096291888&start_date=20260415T230000
LAST-MODIFIED:20260416T000850Z
LOCATION:Telehealth
TRANSP:OPAQUE
TZID:America/Chicago
END:VEVENT
BEGIN:VEVENT
SUMMARY:Patient Appointment
DTSTART;TZID=America/Chicago:20260325T180000
DTEND;TZID=America/Chicago:20260325T190000
DTSTAMP:20260420T030418Z
UID:2054091403@https://sigmund.headway.co
SEQUENCE:1776032132
RRULE:FREQ=WEEKLY;INTERVAL=2
EXDATE;TZID=America/Chicago:20260325T180000,20260408T180000
COLOR:#13aa65
DESCRIPTION:View the patient appointment at https://sigmund.headway.co/cal
 endar?event_id=2054091403&start_date=20260325T230000
LAST-MODIFIED:20260412T221532Z
LOCATION:Telehealth
TRANSP:OPAQUE
TZID:America/Chicago
END:VEVENT
BEGIN:VEVENT
SUMMARY:Patient Appointment
DTSTART;TZID=America/Chicago:20260422T180000
DTEND;TZID=America/Chicago:20260422T190000
UID:2054091403@https://sigmund.headway.co
RECURRENCE-ID;TZID=America/Chicago:20260422T180000
SEQUENCE:1776032132
DESCRIPTION:View the patient appointment at https://sigmund.headway.co/cal
 endar?event_id=2054091403&start_date=20260422T230000
LOCATION:Telehealth
END:VEVENT
BEGIN:VEVENT
SUMMARY:Patient Appointment
DTSTART;TZID=America/Chicago:20260506T180000
DTEND;TZID=America/Chicago:20260506T190000
UID:2054091403@https://sigmund.headway.co
RECURRENCE-ID;TZID=America/Chicago:20260506T180000
SEQUENCE:1776032132
DESCRIPTION:View the patient appointment at https://sigmund.headway.co/cal
 endar?event_id=2054091403&start_date=20260506T230000
LOCATION:Telehealth
END:VEVENT
BEGIN:VEVENT
SUMMARY:Patient Appointment
DTSTART;TZID=America/Chicago:20260520T180000
DTEND;TZID=America/Chicago:20260520T190000
UID:2054091403@https://sigmund.headway.co
RECURRENCE-ID;TZID=America/Chicago:20260520T180000
SEQUENCE:1776032132
DESCRIPTION:View the patient appointment at https://sigmund.headway.co/cal
 endar?event_id=2054091403&start_date=20260520T230000
LOCATION:Telehealth
END:VEVENT
BEGIN:VEVENT
SUMMARY:Patient Appointment
DTSTART;TZID=America/Chicago:20260401T170000
DTEND;TZID=America/Chicago:20260401T180000
DTSTAMP:20260420T030418Z
UID:2084020100@https://sigmund.headway.co
SEQUENCE:1776293914
RRULE:FREQ=WEEKLY
EXDATE;TZID=America/Chicago:20260401T170000,20260408T170000,20260415T17000
 0
COLOR:#13aa65
DESCRIPTION:View the patient appointment at https://sigmund.headway.co/cal
 endar?event_id=2084020100&start_date=20260401T220000
LAST-MODIFIED:20260415T225834Z
LOCATION:Telehealth
TRANSP:OPAQUE
TZID:America/Chicago
END:VEVENT
BEGIN:VEVENT
SUMMARY:Patient Appointment
DTSTART;TZID=America/Chicago:20260422T170000
DTEND;TZID=America/Chicago:20260422T180000
UID:2084020100@https://sigmund.headway.co
RECURRENCE-ID;TZID=America/Chicago:20260422T170000
SEQUENCE:1776293914
DESCRIPTION:View the patient appointment at https://sigmund.headway.co/cal
 endar?event_id=2084020100&start_date=20260422T220000
LOCATION:Telehealth
END:VEVENT
BEGIN:VEVENT
SUMMARY:Patient Appointment
DTSTART;TZID=America/Chicago:20260429T170000
DTEND;TZID=America/Chicago:20260429T180000
UID:2084020100@https://sigmund.headway.co
RECURRENCE-ID;TZID=America/Chicago:20260429T170000
SEQUENCE:1776293914
DESCRIPTION:View the patient appointment at https://sigmund.headway.co/cal
 endar?event_id=2084020100&start_date=20260429T220000
LOCATION:Telehealth
END:VEVENT
BEGIN:VEVENT
SUMMARY:Patient Appointment
DTSTART;TZID=America/Chicago:20260506T170000
DTEND;TZID=America/Chicago:20260506T180000
UID:2084020100@https://sigmund.headway.co
RECURRENCE-ID;TZID=America/Chicago:20260506T170000
SEQUENCE:1776293914
DESCRIPTION:View the patient appointment at https://sigmund.headway.co/cal
 endar?event_id=2084020100&start_date=20260506T220000
LOCATION:Telehealth
END:VEVENT
BEGIN:VEVENT
SUMMARY:Patient Appointment
DTSTART;TZID=America/Chicago:20260408T170000
DTEND;TZID=America/Chicago:20260408T180000
DTSTAMP:20260420T030418Z
UID:2084020103@https://sigmund.headway.co
SEQUENCE:1775689160
COLOR:#13aa65
DESCRIPTION:View the patient appointment at https://sigmund.headway.co/cal
 endar?event_id=2084020103&start_date=20260408T220000
LAST-MODIFIED:20260408T225920Z
LOCATION:Telehealth
TRANSP:OPAQUE
TZID:America/Chicago
END:VEVENT
BEGIN:VEVENT
SUMMARY:Patient Appointment
DTSTART;TZID=America/Chicago:20260406T180000
DTEND;TZID=America/Chicago:20260406T190000
DTSTAMP:20260420T030418Z
UID:2082989313@https://sigmund.headway.co
SEQUENCE:1776205659
RRULE:FREQ=WEEKLY
EXDATE;TZID=America/Chicago:20260406T180000,20260413T180000
COLOR:#13aa65
DESCRIPTION:View the patient appointment at https://sigmund.headway.co/cal
 endar?event_id=2082989313&start_date=20260406T230000
LAST-MODIFIED:20260414T222739Z
LOCATION:Telehealth
TRANSP:OPAQUE
TZID:America/Chicago
END:VEVENT
BEGIN:VEVENT
SUMMARY:Patient Appointment
DTSTART;TZID=America/Chicago:20260420T180000
DTEND;TZID=America/Chicago:20260420T190000
UID:2082989313@https://sigmund.headway.co
RECURRENCE-ID;TZID=America/Chicago:20260420T180000
SEQUENCE:1776205659
DESCRIPTION:View the patient appointment at https://sigmund.headway.co/cal
 endar?event_id=2082989313&start_date=20260420T230000
LOCATION:Telehealth
END:VEVENT
BEGIN:VEVENT
SUMMARY:Patient Appointment
DTSTART;TZID=America/Chicago:20260427T180000
DTEND;TZID=America/Chicago:20260427T190000
UID:2082989313@https://sigmund.headway.co
RECURRENCE-ID;TZID=America/Chicago:20260427T180000
SEQUENCE:1776205659
DESCRIPTION:View the patient appointment at https://sigmund.headway.co/cal
 endar?event_id=2082989313&start_date=20260427T230000
LOCATION:Telehealth
END:VEVENT
BEGIN:VEVENT
SUMMARY:Patient Appointment
DTSTART;TZID=America/Chicago:20260504T180000
DTEND;TZID=America/Chicago:20260504T190000
UID:2082989313@https://sigmund.headway.co
RECURRENCE-ID;TZID=America/Chicago:20260504T180000
SEQUENCE:1776205659
DESCRIPTION:View the patient appointment at https://sigmund.headway.co/cal
 endar?event_id=2082989313&start_date=20260504T230000
LOCATION:Telehealth
END:VEVENT
BEGIN:VEVENT
SUMMARY:Patient Appointment
DTSTART;TZID=America/Chicago:20260316T184500
DTEND;TZID=America/Chicago:20260316T194500
DTSTAMP:20260420T030418Z
UID:2055284417@https://sigmund.headway.co
SEQUENCE:1775511511
RRULE:FREQ=WEEKLY;UNTIL=20260406T235959Z
EXDATE;TZID=America/Chicago:20260316T184500,20260323T184500,20260330T18450
 0,20260406T184500
COLOR:#13aa65
DESCRIPTION:View the patient appointment at https://sigmund.headway.co/cal
 endar?event_id=2055284417&start_date=20260316T234500
LAST-MODIFIED:20260406T213831Z
LOCATION:Telehealth
TRANSP:OPAQUE
TZID:America/Chicago
END:VEVENT
BEGIN:VEVENT
SUMMARY:Patient Appointment
DTSTART;TZID=America/Chicago:20260406T180000
DTEND;TZID=America/Chicago:20260406T190000
DTSTAMP:20260420T030418Z
UID:2082989314@https://sigmund.headway.co
SEQUENCE:1775519901
COLOR:#13aa65
DESCRIPTION:View the patient appointment at https://sigmund.headway.co/cal
 endar?event_id=2082989314&start_date=20260406T230000
LAST-MODIFIED:20260406T235821Z
LOCATION:Telehealth
TRANSP:OPAQUE
TZID:America/Chicago
END:VEVENT
END:VCALENDAR
